Package: BREW3R.r Version: 1.5.0 Command: rm -rf BREW3R.r.buildbin-libdir && mkdir BREW3R.r.buildbin-libdir && /Users/biocbuild/BBS/utils/build-universal.sh BREW3R.r_1.5.0.tar.gz /Library/Frameworks/R.framework/Resources/bin/R BREW3R.r.buildbin-libdir StartedAt: 2025-04-29 22:24:05 -0400 (Tue, 29 Apr 2025) EndedAt: 2025-04-29 22:24:10 -0400 (Tue, 29 Apr 2025) EllapsedTime: 5.1 seconds RetCode: 0 Status: OK PackageFile: BREW3R.r_1.5.0.tgz PackageFileSize: 1.932 MiB