Package: BPRMeth Version: 1.35.0 Command: chmod a+r BPRMeth -R && F:\biocbuild\bbs-3.22-bioc\R\bin\R.exe CMD build --keep-empty-dirs --no-resave-data BPRMeth StartedAt: 2025-08-14 18:50:31 -0400 (Thu, 14 Aug 2025) EndedAt: 2025-08-14 18:53:32 -0400 (Thu, 14 Aug 2025) EllapsedTime: 180.9 seconds RetCode: 0 Status: OK PackageFile: BPRMeth_1.35.0.tar.gz PackageFileSize: 2.48 MiB