Package: BPRMeth Version: 1.35.0 Command: rm -rf BPRMeth.buildbin-libdir && mkdir BPRMeth.buildbin-libdir && F:\biocbuild\bbs-3.22-bioc\R\bin\R.exe CMD INSTALL --build --library=BPRMeth.buildbin-libdir BPRMeth_1.35.0.tar.gz StartedAt: 2025-08-15 09:51:54 -0400 (Fri, 15 Aug 2025) EndedAt: 2025-08-15 09:52:48 -0400 (Fri, 15 Aug 2025) EllapsedTime: 53.8 seconds RetCode: 0 Status: OK PackageFile: BPRMeth_1.35.0.zip PackageFileSize: 3.314 MiB