Package: BOBaFIT Version: 1.11.0 Command: /home/biocbuild/R/R/bin/R CMD INSTALL BOBaFIT StartedAt: 2025-01-29 20:11:19 -0000 (Wed, 29 Jan 2025) EndedAt: 2025-01-29 20:12:30 -0000 (Wed, 29 Jan 2025) EllapsedTime: 71.2 seconds RetCode: 0 Status: OK