Package: BLMA Version: 1.33.0 Command: /Library/Frameworks/R.framework/Resources/bin/R CMD INSTALL BLMA StartedAt: 2025-05-02 15:09:26 -0400 (Fri, 02 May 2025) EndedAt: 2025-05-02 15:09:34 -0400 (Fri, 02 May 2025) EllapsedTime: 8.0 seconds RetCode: 0 Status: OK