Package: BLMA Version: 1.33.0 Maintainer: Van-Dung Pham MaintainerEmail: dvp0001 at auburn.edu git_url: https://git.bioconductor.org/packages/BLMA git_branch: devel git_last_commit: be3864e git_last_commit_date: 2025-04-15 11:10:45 -0400 (Tue, 15 Apr 2025)