Package: BG2 Version: 1.9.0 Command: /home/biocbuild/bbs-3.22-bioc/R/bin/R CMD INSTALL BG2 StartedAt: 2025-10-03 15:08:55 -0400 (Fri, 03 Oct 2025) EndedAt: 2025-10-03 15:09:09 -0400 (Fri, 03 Oct 2025) EllapsedTime: 14.3 seconds RetCode: 0 Status: OK