Package: BG2 Version: 1.9.0 Command: /home/biocbuild/bbs-3.22-bioc/R/bin/R CMD build --keep-empty-dirs --no-resave-data --md5 BG2 StartedAt: 2025-10-03 16:22:43 -0400 (Fri, 03 Oct 2025) EndedAt: 2025-10-03 16:32:18 -0400 (Fri, 03 Oct 2025) EllapsedTime: 574.6 seconds RetCode: 0 Status: OK PackageFile: BG2_1.9.0.tar.gz PackageFileSize: 1.131 MiB