Package: BEclear Version: 2.25.0 Command: chmod a+r BEclear -R && F:\biocbuild\bbs-3.22-bioc\R\bin\R.exe CMD build --keep-empty-dirs --no-resave-data BEclear StartedAt: 2025-08-14 18:37:35 -0400 (Thu, 14 Aug 2025) EndedAt: 2025-08-14 18:38:19 -0400 (Thu, 14 Aug 2025) EllapsedTime: 43.1 seconds RetCode: 0 Status: OK PackageFile: BEclear_2.25.0.tar.gz PackageFileSize: 575.1 KiB