Package: BEclear Version: 2.25.0 Maintainer: Livia Rasp MaintainerEmail: livia.rasp at gmail.com git_url: https://git.bioconductor.org/packages/BEclear git_branch: devel git_last_commit: 311d55e git_last_commit_date: 2025-04-15 10:51:06 -0400 (Tue, 15 Apr 2025)