Package: BERT Version: 1.5.0 Command: /home/biocbuild/bbs-3.22-bioc/R/bin/R CMD INSTALL BERT StartedAt: 2025-10-01 15:34:37 -0400 (Wed, 01 Oct 2025) EndedAt: 2025-10-01 15:34:40 -0400 (Wed, 01 Oct 2025) EllapsedTime: 3.0 seconds RetCode: 0 Status: OK