Package: BERT Version: 1.5.0 Command: /Library/Frameworks/R.framework/Resources/bin/R CMD build --keep-empty-dirs --no-resave-data BERT StartedAt: 2025-05-26 16:23:32 -0400 (Mon, 26 May 2025) EndedAt: 2025-05-26 16:24:04 -0400 (Mon, 26 May 2025) EllapsedTime: 31.8 seconds RetCode: 0 Status: OK PackageFile: BERT_1.5.0.tar.gz PackageFileSize: 258.1 KiB