Package: BEAT Version: 1.47.0 Command: chmod a+r BEAT -R && F:\biocbuild\bbs-3.22-bioc\R\bin\R.exe CMD build --keep-empty-dirs --no-resave-data BEAT StartedAt: 2025-08-14 18:37:20 -0400 (Thu, 14 Aug 2025) EndedAt: 2025-08-14 18:39:27 -0400 (Thu, 14 Aug 2025) EllapsedTime: 126.7 seconds RetCode: 0 Status: OK PackageFile: BEAT_1.47.0.tar.gz PackageFileSize: 3.131 MiB