Package: BEAT Version: 1.47.0 Command: rm -rf BEAT.buildbin-libdir && mkdir BEAT.buildbin-libdir && F:\biocbuild\bbs-3.22-bioc\R\bin\R.exe CMD INSTALL --build --library=BEAT.buildbin-libdir BEAT_1.47.0.tar.gz StartedAt: 2025-08-15 09:47:22 -0400 (Fri, 15 Aug 2025) EndedAt: 2025-08-15 09:48:08 -0400 (Fri, 15 Aug 2025) EllapsedTime: 45.9 seconds RetCode: 0 Status: OK PackageFile: BEAT_1.47.0.zip PackageFileSize: 3.081 MiB