Package: BEAT Version: 1.47.0 Command: /home/biocbuild/bbs-3.22-bioc/R/bin/R CMD INSTALL BEAT StartedAt: 2025-09-30 15:51:49 -0400 (Tue, 30 Sep 2025) EndedAt: 2025-09-30 15:52:24 -0400 (Tue, 30 Sep 2025) EllapsedTime: 35.0 seconds RetCode: 0 Status: OK