Package: BEAT Version: 1.47.0 Command: /home/biocbuild/bbs-3.22-bioc/R/bin/R CMD build --keep-empty-dirs --no-resave-data --md5 BEAT StartedAt: 2025-09-30 16:23:20 -0400 (Tue, 30 Sep 2025) EndedAt: 2025-09-30 16:24:43 -0400 (Tue, 30 Sep 2025) EllapsedTime: 83.1 seconds RetCode: 0 Status: OK PackageFile: BEAT_1.47.0.tar.gz PackageFileSize: 3.294 MiB