Package: BEAT Version: 1.47.0 Maintainer: Kemal Akman MaintainerEmail: akman at mpipz.mpg.de git_url: https://git.bioconductor.org/packages/BEAT git_branch: devel git_last_commit: 4710ea8 git_last_commit_date: 2025-04-15 10:28:19 -0400 (Tue, 15 Apr 2025)