Package: BEARscc Version: 1.27.1 Command: chmod a+r BEARscc -R && F:\biocbuild\bbs-3.22-bioc\R\bin\R.exe CMD build --keep-empty-dirs --no-resave-data BEARscc StartedAt: 2025-04-08 17:39:53 -0400 (Tue, 08 Apr 2025) EndedAt: 2025-04-08 17:41:14 -0400 (Tue, 08 Apr 2025) EllapsedTime: 81.2 seconds RetCode: 1 Status: ERROR PackageFile: None PackageFileSize: NA