Package: BEARscc Version: 1.27.1 Command: E:\biocbuild\bbs-3.21-bioc\R\bin\R.exe CMD INSTALL BEARscc StartedAt: 2025-02-12 16:29:12 -0500 (Wed, 12 Feb 2025) EndedAt: 2025-02-12 16:29:52 -0500 (Wed, 12 Feb 2025) EllapsedTime: 40.8 seconds RetCode: 0 Status: OK