Package: BEARscc Version: 1.27.1 Command: E:\biocbuild\bbs-3.21-bioc\R\bin\R.exe CMD check --no-multiarch --install=check:BEARscc.install-out.txt --library=E:\biocbuild\bbs-3.21-bioc\R\library --no-vignettes --timings BEARscc_1.27.1.tar.gz StartedAt: 2025-02-05 23:21:58 -0500 (Wed, 05 Feb 2025) EndedAt: 2025-02-05 23:26:29 -0500 (Wed, 05 Feb 2025) EllapsedTime: 271.5 seconds RetCode: 1 Status: ERROR CheckDir: BEARscc.Rcheck Warnings: NA