Package: BEARscc Version: 1.27.1 Command: chmod a+r BEARscc -R && E:\biocbuild\bbs-3.21-bioc\R\bin\R.exe CMD build --keep-empty-dirs --no-resave-data BEARscc StartedAt: 2025-02-05 17:26:40 -0500 (Wed, 05 Feb 2025) EndedAt: 2025-02-05 17:28:21 -0500 (Wed, 05 Feb 2025) EllapsedTime: 100.7 seconds RetCode: 0 Status: OK PackageFile: BEARscc_1.27.1.tar.gz PackageFileSize: 644.2 KiB