Package: BEARscc Version: 1.27.1 Command: rm -rf BEARscc.buildbin-libdir && mkdir BEARscc.buildbin-libdir && E:\biocbuild\bbs-3.21-bioc\R\bin\R.exe CMD INSTALL --build --library=BEARscc.buildbin-libdir BEARscc_1.27.1.tar.gz StartedAt: 2025-02-06 07:33:50 -0500 (Thu, 06 Feb 2025) EndedAt: 2025-02-06 07:34:29 -0500 (Thu, 06 Feb 2025) EllapsedTime: 39.3 seconds RetCode: 0 Status: OK PackageFile: BEARscc_1.27.1.zip PackageFileSize: 692.1 KiB