Package: BEARscc Version: 1.27.1 Command: /home/biocbuild/bbs-3.21-bioc/R/bin/R CMD INSTALL BEARscc StartedAt: 2025-02-03 15:39:15 -0500 (Mon, 03 Feb 2025) EndedAt: 2025-02-03 15:39:46 -0500 (Mon, 03 Feb 2025) EllapsedTime: 30.6 seconds RetCode: 0 Status: OK