Package: BEARscc Version: 1.27.1 Command: /home/biocbuild/bbs-3.21-bioc/R/bin/R CMD check --install=check:BEARscc.install-out.txt --library=/home/biocbuild/bbs-3.21-bioc/R/site-library --timings BEARscc_1.27.1.tar.gz StartedAt: 2025-02-03 20:24:53 -0500 (Mon, 03 Feb 2025) EndedAt: 2025-02-03 20:29:15 -0500 (Mon, 03 Feb 2025) EllapsedTime: 261.3 seconds RetCode: 1 Status: ERROR CheckDir: BEARscc.Rcheck Warnings: NA