Package: BEARscc Version: 1.27.1 Command: /Library/Frameworks/R.framework/Resources/bin/R CMD INSTALL BEARscc StartedAt: 2025-02-03 15:17:19 -0500 (Mon, 03 Feb 2025) EndedAt: 2025-02-03 15:18:00 -0500 (Mon, 03 Feb 2025) EllapsedTime: 40.4 seconds RetCode: 0 Status: OK