Package: BEARscc Version: 1.27.1 Command: /Library/Frameworks/R.framework/Resources/bin/R CMD build --keep-empty-dirs --no-resave-data BEARscc StartedAt: 2025-02-03 16:02:21 -0500 (Mon, 03 Feb 2025) EndedAt: 2025-02-03 16:03:31 -0500 (Mon, 03 Feb 2025) EllapsedTime: 69.6 seconds RetCode: 0 Status: OK PackageFile: BEARscc_1.27.1.tar.gz PackageFileSize: 652.1 KiB