Package: BEARscc Version: 1.27.1 Command: rm -rf BEARscc.buildbin-libdir && mkdir BEARscc.buildbin-libdir && /Users/biocbuild/BBS/utils/build-universal.sh BEARscc_1.27.1.tar.gz /Library/Frameworks/R.framework/Resources/bin/R BEARscc.buildbin-libdir StartedAt: 2025-02-06 00:20:06 -0500 (Thu, 06 Feb 2025) EndedAt: 2025-02-06 00:20:50 -0500 (Thu, 06 Feb 2025) EllapsedTime: 44.0 seconds RetCode: 0 Status: OK PackageFile: BEARscc_1.27.1.tgz PackageFileSize: 699 KiB