Package: BEARscc Version: 1.27.1 Command: /home/biocbuild/R/R/bin/R CMD check --install=check:BEARscc.install-out.txt --library=/home/biocbuild/R/R/site-library --no-vignettes --timings BEARscc_1.27.1.tar.gz StartedAt: 2025-01-28 03:46:02 -0000 (Tue, 28 Jan 2025) EndedAt: 2025-01-28 03:50:54 -0000 (Tue, 28 Jan 2025) EllapsedTime: 292.3 seconds RetCode: 1 Status: ERROR CheckDir: BEARscc.Rcheck Warnings: NA