Package: BEARscc Version: 1.27.1 Command: /Library/Frameworks/R.framework/Resources/bin/R CMD INSTALL BEARscc StartedAt: 2025-02-05 15:07:05 -0500 (Wed, 05 Feb 2025) EndedAt: 2025-02-05 15:07:18 -0500 (Wed, 05 Feb 2025) EllapsedTime: 12.7 seconds RetCode: 0 Status: OK