Package: BEARscc Version: 1.27.1 Command: /Library/Frameworks/R.framework/Resources/bin/R CMD check --install=check:BEARscc.install-out.txt --library=/Library/Frameworks/R.framework/Resources/library --no-vignettes --timings BEARscc_1.27.1.tar.gz StartedAt: 2025-02-05 18:14:10 -0500 (Wed, 05 Feb 2025) EndedAt: 2025-02-05 18:15:35 -0500 (Wed, 05 Feb 2025) EllapsedTime: 85.0 seconds RetCode: 1 Status: ERROR CheckDir: BEARscc.Rcheck Warnings: NA