Package: BBCAnalyzer Version: 1.39.0 Command: /home/biocbuild/R/R/bin/R CMD build --keep-empty-dirs --no-resave-data BBCAnalyzer StartedAt: 2025-10-20 22:03:30 -0000 (Mon, 20 Oct 2025) EndedAt: 2025-10-20 22:13:29 -0000 (Mon, 20 Oct 2025) EllapsedTime: 599.2 seconds RetCode: 0 Status: OK PackageFile: BBCAnalyzer_1.39.0.tar.gz PackageFileSize: 2.194 MiB