Package: BBCAnalyzer Version: 1.37.0 Command: /home/biocbuild/bbs-3.21-bioc/R/bin/R CMD build --keep-empty-dirs --no-resave-data BBCAnalyzer StartedAt: 2025-01-10 16:10:52 -0500 (Fri, 10 Jan 2025) EndedAt: 2025-01-10 16:17:15 -0500 (Fri, 10 Jan 2025) EllapsedTime: 383.3 seconds RetCode: 0 Status: OK PackageFile: BBCAnalyzer_1.37.0.tar.gz PackageFileSize: 2.202 MiB