Package: BBCAnalyzer Version: 1.37.0 Command: rm -rf BBCAnalyzer.buildbin-libdir && mkdir BBCAnalyzer.buildbin-libdir && /Users/biocbuild/BBS/utils/build-universal.sh BBCAnalyzer_1.37.0.tar.gz /Library/Frameworks/R.framework/Resources/bin/R BBCAnalyzer.buildbin-libdir StartedAt: 2025-01-11 00:14:40 -0500 (Sat, 11 Jan 2025) EndedAt: 2025-01-11 00:15:43 -0500 (Sat, 11 Jan 2025) EllapsedTime: 62.9 seconds RetCode: 0 Status: OK PackageFile: BBCAnalyzer_1.37.0.tgz PackageFileSize: 2.059 MiB