Package: BASiCS Version: 2.21.0 Command: rm -rf BASiCS.buildbin-libdir && mkdir BASiCS.buildbin-libdir && F:\biocbuild\bbs-3.22-bioc\R\bin\R.exe CMD INSTALL --build --library=BASiCS.buildbin-libdir BASiCS_2.21.0.tar.gz StartedAt: 2025-08-15 09:46:21 -0400 (Fri, 15 Aug 2025) EndedAt: 2025-08-15 09:48:15 -0400 (Fri, 15 Aug 2025) EllapsedTime: 113.6 seconds RetCode: 0 Status: OK PackageFile: BASiCS_2.21.0.zip PackageFileSize: 3.915 MiB