Package: BASiCS Version: 2.19.0 Command: E:\biocbuild\bbs-3.21-bioc\R\bin\R.exe CMD check --no-multiarch --install=check:BASiCS.install-out.txt --library=E:\biocbuild\bbs-3.21-bioc\R\library --no-vignettes --timings BASiCS_2.19.0.tar.gz StartedAt: 2025-02-20 22:57:50 -0500 (Thu, 20 Feb 2025) EndedAt: 2025-02-20 23:08:59 -0500 (Thu, 20 Feb 2025) EllapsedTime: 669.7 seconds RetCode: 0 Status: OK CheckDir: BASiCS.Rcheck Warnings: 0