Package: BASiCS Version: 2.19.0 Command: /home/biocbuild/bbs-3.21-bioc/R/bin/R CMD INSTALL BASiCS StartedAt: 2025-02-20 16:08:30 -0500 (Thu, 20 Feb 2025) EndedAt: 2025-02-20 16:09:43 -0500 (Thu, 20 Feb 2025) EllapsedTime: 72.6 seconds RetCode: 0 Status: OK