Package: BASiCS Version: 2.19.0 Command: /home/biocbuild/bbs-3.21-bioc/R/bin/R CMD build --keep-empty-dirs --no-resave-data BASiCS StartedAt: 2025-02-20 16:30:01 -0500 (Thu, 20 Feb 2025) EndedAt: 2025-02-20 16:31:45 -0500 (Thu, 20 Feb 2025) EllapsedTime: 103.1 seconds RetCode: 0 Status: OK PackageFile: BASiCS_2.19.0.tar.gz PackageFileSize: 3.197 MiB