Package: BASiCS Version: 2.19.0 Command: /Library/Frameworks/R.framework/Resources/bin/R CMD INSTALL BASiCS StartedAt: 2025-02-20 15:25:28 -0500 (Thu, 20 Feb 2025) EndedAt: 2025-02-20 15:25:52 -0500 (Thu, 20 Feb 2025) EllapsedTime: 24.1 seconds RetCode: 0 Status: OK