Package: BANDITS Version: 1.25.1 Command: /home/biocbuild/bbs-3.22-bioc/R/bin/R CMD INSTALL BANDITS StartedAt: 2025-10-07 15:32:37 -0400 (Tue, 07 Oct 2025) EndedAt: 2025-10-07 15:33:37 -0400 (Tue, 07 Oct 2025) EllapsedTime: 59.5 seconds RetCode: 0 Status: OK