Package: BANDITS Version: 1.25.1 Command: rm -rf BANDITS.buildbin-libdir && mkdir BANDITS.buildbin-libdir && /Users/biocbuild/BBS/utils/build-universal.sh BANDITS_1.25.1.tar.gz /Library/Frameworks/R.framework/Resources/bin/R BANDITS.buildbin-libdir StartedAt: 2025-10-10 02:23:05 -0400 (Fri, 10 Oct 2025) EndedAt: 2025-10-10 02:24:17 -0400 (Fri, 10 Oct 2025) EllapsedTime: 72.4 seconds RetCode: 0 Status: OK PackageFile: BANDITS_1.25.1.tgz PackageFileSize: 1.598 MiB