Package: BAGS Version: 2.49.0 Command: rm -rf BAGS.buildbin-libdir && mkdir BAGS.buildbin-libdir && F:\biocbuild\bbs-3.22-bioc\R\bin\R.exe CMD INSTALL --build --library=BAGS.buildbin-libdir BAGS_2.49.0.tar.gz StartedAt: 2025-08-15 09:45:43 -0400 (Fri, 15 Aug 2025) EndedAt: 2025-08-15 09:45:54 -0400 (Fri, 15 Aug 2025) EllapsedTime: 10.5 seconds RetCode: 0 Status: OK PackageFile: BAGS_2.49.0.zip PackageFileSize: 245.8 KiB