Package: BAGS Version: 2.47.0 Command: rm -rf BAGS.buildbin-libdir && mkdir BAGS.buildbin-libdir && E:\biocbuild\bbs-3.21-bioc\R\bin\R.exe CMD INSTALL --build --library=BAGS.buildbin-libdir BAGS_2.47.0.tar.gz StartedAt: 2025-02-04 07:29:49 -0500 (Tue, 04 Feb 2025) EndedAt: 2025-02-04 07:30:06 -0500 (Tue, 04 Feb 2025) EllapsedTime: 16.6 seconds RetCode: 0 Status: OK PackageFile: BAGS_2.47.0.zip PackageFileSize: 246 KiB