Package: BAGS Version: 2.47.0 Command: /home/biocbuild/bbs-3.21-bioc/R/bin/R CMD check --install=check:BAGS.install-out.txt --library=/home/biocbuild/bbs-3.21-bioc/R/site-library --timings BAGS_2.47.0.tar.gz StartedAt: 2025-02-03 20:16:24 -0500 (Mon, 03 Feb 2025) EndedAt: 2025-02-03 20:17:31 -0500 (Mon, 03 Feb 2025) EllapsedTime: 67.1 seconds RetCode: 0 Status: OK CheckDir: BAGS.Rcheck Warnings: 0