Package: BAGS Version: 2.47.0 Command: rm -rf BAGS.buildbin-libdir && mkdir BAGS.buildbin-libdir && /Users/biocbuild/BBS/utils/build-universal.sh BAGS_2.47.0.tar.gz /Library/Frameworks/R.framework/Resources/bin/R BAGS.buildbin-libdir StartedAt: 2025-02-04 00:23:11 -0500 (Tue, 04 Feb 2025) EndedAt: 2025-02-04 00:23:19 -0500 (Tue, 04 Feb 2025) EllapsedTime: 8.1 seconds RetCode: 0 Status: OK PackageFile: BAGS_2.47.0.tgz PackageFileSize: 317.6 KiB