Package: BADER Version: 1.47.0 Command: /home/biocbuild/bbs-3.22-bioc/R/bin/R CMD INSTALL BADER StartedAt: 2025-10-03 15:04:53 -0400 (Fri, 03 Oct 2025) EndedAt: 2025-10-03 15:05:05 -0400 (Fri, 03 Oct 2025) EllapsedTime: 12.2 seconds RetCode: 0 Status: OK