Package: BADER Version: 1.47.0 Command: rm -rf BADER.buildbin-libdir && mkdir BADER.buildbin-libdir && /Users/biocbuild/BBS/utils/build-universal.sh BADER_1.47.0.tar.gz /Library/Frameworks/R.framework/Resources/bin/R BADER.buildbin-libdir StartedAt: 2025-09-30 22:31:36 -0400 (Tue, 30 Sep 2025) EndedAt: 2025-09-30 22:31:38 -0400 (Tue, 30 Sep 2025) EllapsedTime: 2.0 seconds RetCode: 0 Status: OK PackageFile: BADER_1.47.0.tgz PackageFileSize: 258.8 KiB