Package: AssessORF Version: 1.27.0 Command: rm -rf AssessORF.buildbin-libdir && mkdir AssessORF.buildbin-libdir && F:\biocbuild\bbs-3.22-bioc\R\bin\R.exe CMD INSTALL --build --library=AssessORF.buildbin-libdir AssessORF_1.27.0.tar.gz StartedAt: 2025-08-15 09:44:48 -0400 (Fri, 15 Aug 2025) EndedAt: 2025-08-15 09:45:12 -0400 (Fri, 15 Aug 2025) EllapsedTime: 23.9 seconds RetCode: 0 Status: OK PackageFile: AssessORF_1.27.0.zip PackageFileSize: 4.797 MiB