Package: AssessORF Version: 1.29.0 Command: /home/biocbuild/bbs-3.23-bioc/R/bin/R CMD build --keep-empty-dirs --no-resave-data AssessORF StartedAt: 2025-11-21 16:14:28 -0500 (Fri, 21 Nov 2025) EndedAt: 2025-11-21 16:15:05 -0500 (Fri, 21 Nov 2025) EllapsedTime: 37.1 seconds RetCode: 0 Status: OK PackageFile: AssessORF_1.29.0.tar.gz PackageFileSize: 4.703 MiB