Package: ArrayExpress Version: 1.69.0 Command: /home/biocbuild/R/R/bin/R CMD INSTALL ArrayExpress StartedAt: 2025-10-09 21:13:52 -0000 (Thu, 09 Oct 2025) EndedAt: 2025-10-09 21:14:24 -0000 (Thu, 09 Oct 2025) EllapsedTime: 32.9 seconds RetCode: 0 Status: OK