Package: ArrayExpress Version: 1.69.0 Command: /home/biocbuild/R/R/bin/R CMD build --keep-empty-dirs --no-resave-data ArrayExpress StartedAt: 2025-10-09 22:33:41 -0000 (Thu, 09 Oct 2025) EndedAt: 2025-10-09 22:41:10 -0000 (Thu, 09 Oct 2025) EllapsedTime: 449.1 seconds RetCode: 0 Status: OK PackageFile: ArrayExpress_1.69.0.tar.gz PackageFileSize: 133.2 KiB